BEGIN:VCALENDAR
VERSION:2.0
PRODID:-//Foire Agricole Ettelbruck - 03.07.2020 - 05.07.2020 - ECPv4.6.18//NONSGML v1.0//EN
CALSCALE:GREGORIAN
METHOD:PUBLISH
X-WR-CALNAME:Foire Agricole Ettelbruck - 03.07.2020 - 05.07.2020
X-ORIGINAL-URL:https://www.fae.lu/?lang=fr
X-WR-CALDESC:Events for Foire Agricole Ettelbruck - 03.07.2020 - 05.07.2020
BEGIN:VEVENT
DTSTART;TZID=Europe/Luxembourg:20180701T090000
DTEND;TZID=Europe/Luxembourg:20180701T190000
DTSTAMP:20200127T131901
CREATED:20180620T092123Z
LAST-MODIFIED:20180620T092123Z
UID:13855-1530435600-1530471600@www.fae.lu
SUMMARY:Démonstration de machines agricoles innovantes
DESCRIPTION:	\n	\n        			Beitrag teilen / Partager: \n		\n        \n					\n					sur Twitter\n					 \n						\n						sur Facebook\n					 \n						\n						sur Google+\n					      \n    \n   
URL:https://www.fae.lu/event/demonstration-de-machines-agricoles-innovantes-3/?lang=fr
END:VEVENT
END:VCALENDAR