BEGIN:VCALENDAR
VERSION:2.0
PRODID:-//Foire Agricole Ettelbruck - 03.07.2019 - 05.07.2020 - ECPv4.6.18//NONSGML v1.0//EN
CALSCALE:GREGORIAN
METHOD:PUBLISH
X-WR-CALNAME:Foire Agricole Ettelbruck - 03.07.2019 - 05.07.2020
X-ORIGINAL-URL:https://www.fae.lu
X-WR-CALDESC:Veranstaltungen für Foire Agricole Ettelbruck - 03.07.2019 - 05.07.2020
BEGIN:VEVENT
DTSTART;TZID=Europe/Luxembourg:20180701T100000
DTEND;TZID=Europe/Luxembourg:20180701T170000
DTSTAMP:20200127T132000
CREATED:20180620T090941Z
LAST-MODIFIED:20180620T114141Z
UID:13801-1530439200-1530464400@www.fae.lu
SUMMARY:Derby Trait Ardenner-Pferde 2
DESCRIPTION:Holzrücken\, Zugarbeiten\, Staffel-Wettbewerb \n	\n	\n        			Beitrag teilen / Partager: \n		\n        \n					\n					via Twitter\n					 \n						\n						auf Facebook\n					 \n						\n						auf Google+\n					      \n    \n   
URL:https://www.fae.lu/event/derby-trait-ardenner-pferde-2/
LOCATION:United States
END:VEVENT
END:VCALENDAR