BEGIN:VCALENDAR
VERSION:2.0
PRODID:-//Foire Agricole Ettelbruck - 03.07.2019 - 05.07.2020 - ECPv4.6.18//NONSGML v1.0//EN
CALSCALE:GREGORIAN
METHOD:PUBLISH
X-WR-CALNAME:Foire Agricole Ettelbruck - 03.07.2019 - 05.07.2020
X-ORIGINAL-URL:https://www.fae.lu
X-WR-CALDESC:Veranstaltungen für Foire Agricole Ettelbruck - 03.07.2019 - 05.07.2020
BEGIN:VEVENT
DTSTART;TZID=Europe/Luxembourg:20180630T143000
DTEND;TZID=Europe/Luxembourg:20180630T143000
DTSTAMP:20200127T131105
CREATED:20180620T090941Z
LAST-MODIFIED:20180620T114955Z
UID:13786-1530369000-1530369000@www.fae.lu
SUMMARY:Fortsetzung Nationale Fleischrinderwettbewerbe & interregionale Limousin Wettbewerbe
DESCRIPTION:Auswahl der Siegertiere \n	\n	\n        			Beitrag teilen / Partager: \n		\n        \n					\n					via Twitter\n					 \n						\n						auf Facebook\n					 \n						\n						auf Google+\n					      \n    \n   
URL:https://www.fae.lu/event/fortsetzung-nationale-fleischrinderwettbewerbe-interregionale-limousin-wettbewerbe/
LOCATION:United States
END:VEVENT
END:VCALENDAR