BEGIN:VCALENDAR
VERSION:2.0
PRODID:-//Foire Agricole Ettelbruck - 03.07.2020 - 05.07.2020 - ECPv4.6.18//NONSGML v1.0//EN
CALSCALE:GREGORIAN
METHOD:PUBLISH
X-WR-CALNAME:Foire Agricole Ettelbruck - 03.07.2020 - 05.07.2020
X-ORIGINAL-URL:https://www.fae.lu/?lang=fr
X-WR-CALDESC:Events for Foire Agricole Ettelbruck - 03.07.2020 - 05.07.2020
BEGIN:VEVENT
DTSTART;TZID=Europe/Luxembourg:20180701T090000
DTEND;TZID=Europe/Luxembourg:20180701T150000
DTSTAMP:20200127T131752
CREATED:20180620T092123Z
LAST-MODIFIED:20180620T092123Z
UID:13857-1530435600-1530457200@www.fae.lu
SUMMARY:Luxembourg Summer Classics-Junior-Open 2018
DESCRIPTION:International heifer show & showmanship \n	\n	\n        			Beitrag teilen / Partager: \n		\n        \n					\n					sur Twitter\n					 \n						\n						sur Facebook\n					 \n						\n						sur Google+\n					      \n    \n   
URL:https://www.fae.lu/event/luxembourg-summer-classics-junior-open-2018/?lang=fr
LOCATION:United States
END:VEVENT
END:VCALENDAR