BEGIN:VCALENDAR
VERSION:2.0
PRODID:-//Foire Agricole Ettelbruck - 03.07.2019 - 05.07.2020 - ECPv4.6.18//NONSGML v1.0//EN
CALSCALE:GREGORIAN
METHOD:PUBLISH
X-WR-CALNAME:Foire Agricole Ettelbruck - 03.07.2019 - 05.07.2020
X-ORIGINAL-URL:https://www.fae.lu
X-WR-CALDESC:Veranstaltungen für Foire Agricole Ettelbruck - 03.07.2019 - 05.07.2020
BEGIN:VEVENT
DTSTART;TZID=Europe/Luxembourg:20180701T173000
DTEND;TZID=Europe/Luxembourg:20180701T180000
DTSTAMP:20200127T132718
CREATED:20180620T091109Z
LAST-MODIFIED:20180620T093355Z
UID:13814-1530466200-1530468000@www.fae.lu
SUMMARY:Pferde-Show
DESCRIPTION:„Les Ardennais Belges“ – Anges et Démons \n	\n	\n        			Beitrag teilen / Partager: \n		\n        \n					\n					via Twitter\n					 \n						\n						auf Facebook\n					 \n						\n						auf Google+\n					      \n    \n   
URL:https://www.fae.lu/event/pferde-show-4/
LOCATION:United States
END:VEVENT
END:VCALENDAR