BEGIN:VCALENDAR
VERSION:2.0
PRODID:-//Foire Agricole Ettelbruck - 03.07.2020 - 05.07.2020 - ECPv4.6.18//NONSGML v1.0//EN
CALSCALE:GREGORIAN
METHOD:PUBLISH
X-WR-CALNAME:Foire Agricole Ettelbruck - 03.07.2020 - 05.07.2020
X-ORIGINAL-URL:https://www.fae.lu/?lang=fr
X-WR-CALDESC:Events for Foire Agricole Ettelbruck - 03.07.2020 - 05.07.2020
BEGIN:VEVENT
DTSTART;TZID=Europe/Luxembourg:20180701T113000
DTEND;TZID=Europe/Luxembourg:20180701T120000
DTSTAMP:20200127T132146
CREATED:20180620T092326Z
LAST-MODIFIED:20180620T092326Z
UID:13862-1530444600-1530446400@www.fae.lu
SUMMARY:Spectacle chevaux ardennais
DESCRIPTION:Groupe JEHOL \n	\n	\n        			Beitrag teilen / Partager: \n		\n        \n					\n					sur Twitter\n					 \n						\n						sur Facebook\n					 \n						\n						sur Google+\n					      \n    \n   
URL:https://www.fae.lu/event/spectacle-chevaux-ardennais-6/?lang=fr
LOCATION:United States
END:VEVENT
END:VCALENDAR