BEGIN:VCALENDAR
VERSION:2.0
PRODID:-//Foire Agricole Ettelbruck - 03.07.2020 - 05.07.2020 - ECPv4.6.18//NONSGML v1.0//EN
CALSCALE:GREGORIAN
METHOD:PUBLISH
X-WR-CALNAME:Foire Agricole Ettelbruck - 03.07.2020 - 05.07.2020
X-ORIGINAL-URL:https://www.fae.lu/?lang=fr
X-WR-CALDESC:Events for Foire Agricole Ettelbruck - 03.07.2020 - 05.07.2020
BEGIN:VEVENT
DTSTART;TZID=Europe/Luxembourg:20180701T173000
DTEND;TZID=Europe/Luxembourg:20180701T180000
DTSTAMP:20200127T132740
CREATED:20180620T092326Z
LAST-MODIFIED:20180620T092326Z
UID:13873-1530466200-1530468000@www.fae.lu
SUMMARY:Spectacle chevaux ardennais
DESCRIPTION:„Les Ardennais Belges“ – Anges et Démons \n	\n	\n        			Beitrag teilen / Partager: \n		\n        \n					\n					sur Twitter\n					 \n						\n						sur Facebook\n					 \n						\n						sur Google+\n					      \n    \n   
URL:https://www.fae.lu/event/spectacle-chevaux-ardennais-9/?lang=fr
LOCATION:United States
END:VEVENT
END:VCALENDAR