BEGIN:VCALENDAR
VERSION:2.0
PRODID:-//Foire Agricole Ettelbruck - 03.07.2020 - 05.07.2020 - ECPv4.6.18//NONSGML v1.0//EN
CALSCALE:GREGORIAN
METHOD:PUBLISH
X-WR-CALNAME:Foire Agricole Ettelbruck - 03.07.2020 - 05.07.2020
X-ORIGINAL-URL:https://www.fae.lu/?lang=fr
X-WR-CALDESC:Events for Foire Agricole Ettelbruck - 03.07.2020 - 05.07.2020
BEGIN:VEVENT
DTSTART;TZID=Europe/Luxembourg:20180630T143000
DTEND;TZID=Europe/Luxembourg:20180630T143000
DTSTAMP:20200127T131142
CREATED:20180620T092123Z
LAST-MODIFIED:20180620T092123Z
UID:13845-1530369000-1530369000@www.fae.lu
SUMMARY:Suite des concours nationaux des races bovines à viande
DESCRIPTION:Sélection des champions \n	\n	\n        			Beitrag teilen / Partager: \n		\n        \n					\n					sur Twitter\n					 \n						\n						sur Facebook\n					 \n						\n						sur Google+\n					      \n    \n   
URL:https://www.fae.lu/event/suite-des-concours-nationaux-des-races-bovines-a-viande/?lang=fr
LOCATION:United States
END:VEVENT
END:VCALENDAR